Workbook
Name OLE_LINK1: 'Agency Approval'!#REF!
Name OLE_LINK2: 'Agency Approval'!#REF!
Name OLE_LINK4: 'General Instructions'!#REF!

Sheet General Instructions
B1: Uniform Grant Budget Modification Template -- General Instructions
B3: This form is used to make modifications to previously approved grant budgets. Applicants should submit budget modifications based upon the total estimated costs for the project including all funding sources. Pay attention to applicable program specific instructions, if attached. The applicant organization should refer to 2 CFR 200, “Uniform Administrative Requirements, Cost Principles, and Audit Requirements for Federal Awards” cited within these instructions.
B5: You must consult with your Business Office prior to submitting this form for any award restrictions, limitations or requirements when filling out the narrative and Uniform Budget Modification Template.
B6: Section A – Budget Summary
B7: STATE OF ILLINOIS FUNDS
B8: Enter the organization information at the top of the page and the most current approved budget amounts in lines 1 - 15 and 17 in column C (Current Approved Budget). Columns D (Modification Amount) & E (New Budget Amount) will be automatically populated based on the detail you enter in section C.
B9: STATE OF ILLINOIS GRANT FUNDS
B10: Provide a total requested State of Illinois Grant amount for each year in the Revenue portion of Section A. The amount entered in Line (a) will equal the total amount budgeted on Line 18 of Section A.
B11: BUDGET SUMMARY – STATE OF ILLINOIS FUNDS
B12: Please use detail worksheet and narrative section for further descriptions and explanations of budgetary line items. ONLY ENTER THE CHANGES NEEDED IN THE DETAIL FOR
B13: EACH BUDGET LINE.
B15: Section A Indirect Cost Information: (This information should be completed by the applicant’s Business Office). Check the appropriate box for the type of indirect cost rate previously selected on the most recent budget modification. unless part of the modification is due to changing the type of indirect you are going to claim.
... B89: (e) The Federal/State awarding agency may, at its option, restrict the transfer of funds among direct cost categories or programs, functions and activities for Federal/State awards in which the Federal/State share of the project exceeds the Simplified Acquisition Threshold and the cumulative amount of such transfers exceeds or is expected to exceed 10 percent or $1,000 per detail line item, whichever is greater of the total budget as last approved by the Federal/State awarding agency. The Federal/State awarding agency cannot permit a transfer that would cause any Federal/State appropriation to be used for purposes other than those consistent with the appropriation.

Sheet Section A
A1: STATE OF ILLINOIS | B1: UNIFORM GRANT BUDGET MODIFICATION TEMPLATE | E1: Commerce & Economic Opportunity
A2: Organization Name: | B2: GRANTEE | C2: UEI# | E2: NOFO # | G2: Please type in the light blue highlighted cells
A3: CSFA # | B3: 420-30-2614 | C3: CSFA Description: | D3: Illinois Works Pre-Apprenticeship Program | E3: Fiscal Year: | F3: 2027
A4: S E C T I O N A -- STATE OF ILLINOIS FUNDS | E4: Grant #
A5: Revenues | E5: TOTAL REVENUE
A6: (a). State of Illinois Grant Amount Requested | E6: =+F38 -> 559313.1
A7: BUDGET SUMMARY STATE OF ILLINOIS FUNDS
A8: Budget Expenditure Categories | C8: OMB Uniform Guidance Federal Awards Reference 2 CFR 200 | D8: Current Approved Budget | E8: Modification Amount | F8: New Budget Amount
A9: 1. Personnel (Salaries & Wages) | C9: 200.43 | D9: 167400 | E9: =F9-D9 -> 0 | F9: =Personnel!G136 -> 167400 | G9: type Current Approved Budget in the light blue highlighted cells
A10: 2. Fringe Benefits | C10: 200.431 | D10: 28709.1 | E10: =F10-D10 -> 0 | F10: ='Fringe Benefits'!E135 -> 28709.1
A11: 3. Travel | C11: 200.474 | D11: 6784 | E11: =F11-D11 -> 0 | F11: =Travel!G135 -> 6784
A12: 4. Equipment | C12: 200.439 | E12: =F12-D12 -> 0 | F12: =Equipment!D135 -> 0
A13: 5. Supplies | C13: 200.94 | D13: 27225 | E13: =F13-D13 -> 0 | F13: =Supplies!D134 -> 27225
A14: 6. Contractual Services & Subawards | C14: 200.318 & 200.92 | D14: 31500 | E14: =F14-D14 -> 3000 | F14: ='Contractual Services'!C137 -> 34500
A15: 7. Consultant (Professional Services) | C15: 200.459 | E15: =F15-D15 -> 0 | F15: =Consultant!G134+Consultant!G407 -> 0
A16: 8. Construction | E16: =F16-D16 -> 0 | F16: =Construction!C134 -> 0
A17: 9. Occupancy (Rent & Utilities) | C17: 200.465 | D17: 72000 | E17: =F17-D17 -> 0 | F17: =Occupancy!F135 -> 72000
A18: 10. Research & Development (R&D) | C18: 200.87 | E18: =F18-D18 -> 0 | F18: ='R & D'!C134 -> 0
A19: 11. Telecommunications | D19: 1218 | E19: =F19-D19 -> 0 | F19: =Telecommunications!F135 -> 1218
A20: 12. Training & Education | C20: 200.472 | D20: 4500 | E20: =F20-D20 -> 1500 | F20: ='Training & Education'!F135 -> 6000
A21: 13. Direct Administrative costs | C21: 200.413 ( c) | E21: =F21-D21 -> 0 | F21: ='Direct Administrative'!G135 -> 0
A22: 14. Miscellaneous Costs | D22: 169550 | E22: =F22-D22 -> 0 | F22: ='Miscellaneous (other) Costs'!F135 -> 169550
A23: =+'15A'!$A$2&'15A'!$B$2 -> 15A.GRANT EXCLUSIVE LINE ITEM
A24: =+'15B'!$A$2&'15B'!$B$2 -> 15B.GRANT EXCLUSIVE LINE ITEM
A25: =+'15C'!$A$2&'15C'!$B$2 -> 15C.GRANT EXCLUSIVE LINE ITEM
A26: =+'15D'!$A$2&'15D'!$B$2 -> 15D.GRANT EXCLUSIVE LINE ITEM
A27: =+'15E'!$A$2&'15E'!$B$2 -> 15E.GRANT EXCLUSIVE LINE ITEM
A28: =+'15F'!$A$2&'15F'!$B$2 -> 15F.GRANT EXCLUSIVE LINE ITEM
A29: =+'15G'!$A$2&'15G'!$B$2 -> 15G.GRANT EXCLUSIVE LINE ITEM
A30: =+'15H'!$A$2&'15H'!$B$2 -> 15H.GRANT EXCLUSIVE LINE ITEM
A31: =+'15I'!$A$2&'15I'!$B$2 -> 15I.GRANT EXCLUSIVE LINE ITEM
A32: =+'15J'!$A$2&'15J'!$B$2 -> 15J.GRANT EXCLUSIVE LINE ITEM
A33: =+'15K'!$A$2&'15K'!$B$2 -> 15K.GRANT EXCLUSIVE LINE ITEM
A34: 16. Total Direct Costs (lines 1-15) | C34: 200.413 | D34: =SUBTOTAL(109,D9:D33) -> 508886.1 | E34: =SUBTOTAL(109,E9:E33) -> 4500 | F34: =+D34+E34 -> 513386.1
A35: 17. Indirect Costs* (see below) | C35: 200.414 | D35: 38136.76 | E35: =+F35-D35 -> 7790.24 | F35: =+'Indirect Costs'!D8 -> 45927
A36: Rate:
A37: Base: | B37: =SUBTOTAL(109,'Indirect Costs'!B4:B7) -> 315000
A38: 18. Total Costs State Grant Funds (16 &17) | D38: =(D34+D35) -> 547022.86 | E38: =(E34+E35) -> 12290.24 | F38: =+E38+D38 -> 559313.1

Sheet ICI
B1: Organization Name: | F1: =+'Section A'!B2 -> GRANTEE | M1: NOFO # | O1: =+'Section A'!F2 -> 0
B2: SECTION - A (continued) Indirect Cost Rate Information
C3: If your organization is requesting reimbursement for indirect costs on line 17 of the Budget Summary, please select one of the following options.
B5: 1) | E5: Our Organization receives direct Federal funding and currently has a Negotiated Indirect Cost Rate Agreement (NICRA) with our Federal Cognizant Agency. A copy of this agreement will be provided to the State of Illinois’ Indirect Cost Unit for review and documentation before reimbursement is allowed. This NICRA will be accepted by all State of Illinois Agencies up to any statutory, rule-based or programmatic restrictions or limitations. | T5: To select an option - highlight the box and drop down the shape fill box on the drawing tools ribbon. you can either select a fill color or you can fill with texture, choose more textures and pick a checkmark from clipart.
E6: NOTE: (If this option is selected, please provide basic Negotiated Indirect Cost Rate Agreement information in area designated below)
B8: Your Organization may not have a Federally Negotiated Indirect Cost Rate Agreement. Therefore, in order for your Organization to be reimbursed for Indirect Costs from the State of Illinois, your Organization must either: | T8: Complete the Negotiated Indirect Cost Rate Agreement information below if Option (1) or (2a) is selected
C9: A. | D9: Negotiate an Indirect Cost Rate with the State of Illinois’ Indirect Cost Unit with guidance from your State Cognizant Agency on an annual basis.
C10: B. | D10: Elect to use the de minimis rate of 15% modified total direct cost (MTDC) which may be used indefinitely on State of Illinois Awards.
C11: C. | D11: Use a Restricted Rate designated by programmatic or statutory policy. (See Notice of Funding Opportunity for Restricted Rate Programs)
B13: 2a) | E13: Our Organization currently has a Negotiated Indirect Cost Rate Agreement with the State of Illinois that will be accepted by all State of Illinois Agencies up to any statutory, rule-based or programmatic restrictions or limitations. Our Organization is required to submit a new Indirect Cost Rate Proposal to the Indirect Cost Unit within six (6) months after the close of each fiscal year (2 CFR 200 Appendix IV (C)(2)(c).
E14: NOTE: (If this option is selected, please provide basic Indirect Cost Rate information in area designated below)
B15: 2b) | E15: Our Organization currently does not have a Negotiated Indirect Cost Rate Agreement with the State of Illinois. Our Organization will submit our initial Indirect Cost Rate Proposal (ICRP) immediately after our Organization is advised that the State award will be made and, in no event, later than three (3) months after the effective date of the State award (2 CFR 200 Appendix IV (C)(2)(b). The initial ICRP will be sent to the State of Illinois’ Indirect Cost Unit.
E16: NOTE: (Check with your State of Illinois Agency for information regarding reimbursement of indirect costs while your proposal is being negotiated)
B18: 3) | E18: Our Organization has never received a Negotiated Indirect Cost Rate Agreement from either the Federal government or the State of Illinois and elects to charge the de minimis rate of 15% modified total direct cost (MTDC) which may be used indefinitely on State of Illinois awards (2 CFR 200.414 (c)(4)(f) & (200.68).
E19: NOTE: (Your Organization must be eligible, see 2 CFR 200.414 (f), and submit documentation on the calculation of MTDC within your Budget Narrative under Indirect Costs)
B21: 4) | E21: For Restricted Rate Programs (check one) -- Our Organization is using a restricted indirect cost rate that:
E22: _____ | F22: Is included as a “Special Indirect Cost Rate” in our NICRA (2 CFR 200Appendix IV (5) Or;
E23: _____ | F23: Complies with other statutory policies (please specify):
E24: The Restricted Indirect Cost Rate is _________%
B26: 5) | E26: No reimbursement of Indirect Cost is being requested. (Please consult your program office regarding possible match requirements)
B29: Basic Negotiated Indirect Cost Rate Agreement information if Option (1) or (2a) is selected | G29: Period Covered by the NICRA: From: | K29: To: | O29: (mm/dd/yyyy)
G30: Approving Federal/State agency (please specify):
G31: The Indirect Cost Rate is: | I31: % | J31: The Distribution Base is:

Sheet Section B
A1: =+'Section A'!A1 -> STATE OF ILLINOIS | B1: =+'Section A'!B1:D1 -> UNIFORM GRANT BUDGET MODIFICATION TEMPLATE | E1: =+'Section A'!E1 -> Commerce & Economic Opportunity | F1: content in rows 1 to 4 come from Section A
A2: ="Organization Name: "&'Section A'!B2 -> Organization Name: GRANTEE | B2: ="NOFO # "&'Section A'!F2 -> NOFO # | D2: ="Fiscal Year: "&'Section A'!F3 -> Fiscal Year: 2027
A3: S E C T I O N B -- NON STATE OF ILLINOIS FUNDS | D3: ="Grant # "&'Section A'!F4 -> Grant #
A4: Revenues | D4: TOTAL REVENUE
A5: Grantee Match Requirement ________ % (Agency to populate)
A6: (b). -Cash | D6: 0
A7: (c). -Non-cash | D7: 0
A8: (d). Other Funding & Contributions | D8: 0
A9: NON-STATE Funds Total | D9: =(D6+D7+D8) -> 0
A10: BUDGET SUMMARY NON-STATE OF ILLINOIS FUNDS
A11: Budget Expenditure Categories | B11: OMB Uniform Guidance Federal Awards Reference 2 CFR 200 | C11: Current Approved Budget | D11: Modification Amount | E11: New Budget Amount
A12: 1. Personnel (Salaries & Wages) | B12: 200.43 | D12: =E12-C12 -> 0 | E12: =Personnel!G268 -> 0 | F12: type Current Approved Budget in the light blue highlighted cells
A13: 2. Fringe Benefits | B13: 200.431 | D13: =E13-C13 -> 0 | E13: ='Fringe Benefits'!E267 -> 0
A14: 3. Travel | B14: 200.474 | D14: =E14-C14 -> 0 | E14: =Travel!G267 -> 0
A15: 4. Equipment | B15: 200.439 | D15: =E15-C15 -> 0 | E15: =Equipment!D267 -> 0
A16: 5. Supplies | B16: 200.94 | D16: =E16-C16 -> 0 | E16: =Supplies!D266 -> 0
A17: 6. Contractual Services & Subawards | B17: 200.318 & 200.92 | D17: =E17-C17 -> 0 | E17: ='Contractual Services'!C269 -> 0
A18: 7. Consultant (Professional Services) | B18: 200.459 | D18: =E18-C18 -> 0 | E18: =Consultant!G266+Consultant!G539 -> 0
A19: 8. Construction | D19: =E19-C19 -> 0 | E19: =Construction!C266 -> 0
A20: 9. Occupancy (Rent & Utilities) | B20: 200.465 | D20: =E20-C20 -> 0 | E20: =Occupancy!F267 -> 0
A21: 10. Research & Development (R&D) | B21: 200.87 | D21: =E21-C21 -> 0 | E21: ='R & D'!C266 -> 0
A22: 11. Telecommunications | D22: =E22-C22 -> 0 | E22: =Telecommunications!F267 -> 0
A23: 12. Training & Education | B23: 200.472 | D23: =E23-C23 -> 0 | E23: ='Training & Education'!F267 -> 0
A24: 13. Direct Administrative costs | B24: 200.413 ( c) | D24: =E24-C24 -> 0 | E24: ='Direct Administrative'!G267 -> 0
A25: 14. Miscellaneous Costs | D25: =E25-C25 -> 0 | E25: ='Miscellaneous (other) Costs'!F267 -> 0
A26: =+'15A'!$A$2&'15A'!$B$2 -> 15A.GRANT EXCLUSIVE LINE ITEM
A27: =+'15B'!$A$2&'15B'!$B$2 -> 15B.GRANT EXCLUSIVE LINE ITEM
A28: =+'15C'!$A$2&'15C'!$B$2 -> 15C.GRANT EXCLUSIVE LINE ITEM
A29: =+'15D'!$A$2&'15D'!$B$2 -> 15D.GRANT EXCLUSIVE LINE ITEM
A30: =+'15E'!$A$2&'15E'!$B$2 -> 15E.GRANT EXCLUSIVE LINE ITEM
A31: =+'15F'!$A$2&'15F'!$B$2 -> 15F.GRANT EXCLUSIVE LINE ITEM
A32: =+'15G'!$A$2&'15G'!$B$2 -> 15G.GRANT EXCLUSIVE LINE ITEM
A33: =+'15H'!$A$2&'15H'!$B$2 -> 15H.GRANT EXCLUSIVE LINE ITEM
A34: =+'15I'!$A$2&'15I'!$B$2 -> 15I.GRANT EXCLUSIVE LINE ITEM
A35: =+'15J'!$A$2&'15J'!$B$2 -> 15J.GRANT EXCLUSIVE LINE ITEM
A36: =+'15K'!$A$2&'15K'!$B$2 -> 15K.GRANT EXCLUSIVE LINE ITEM
A37: 16. Total Direct Costs (lines 1-15) | B37: 200.413 | C37: =SUBTOTAL(109,C12:C36) -> 0 | D37: =SUBTOTAL(109,D12:D36) -> 0 | E37: =+C37+D37 -> 0
A38: 17. Indirect Costs* (see below) | B38: 200.414 | C38: 0 | D38: =+E38-C38 -> 0 | E38: =+'Indirect Costs'!D14 -> 0
A39: Rate %: | C39: Base: | D39: =+'Indirect Costs'!B8+'Indirect Costs'!B9 -> 0
A40: 18. Total Costs NON -State Grant Funds (16 &17) | C40: =(C37+C38) -> 0 | D40: =+D37+D38 -> 0 | E40: =+E37+E38 -> 0

Sheet Certification 
A1: CERTIFICATION | D1: STATE OF ILLINOIS UNIFORM GRANT BUDGET TEMPLATE | G1: AGENCY: Commerce & Economic Opportunity
A2: =+'Section B'!A2 -> Organization Name: GRANTEE | D2: ="CSFA Description: "&'Section A'!D3 -> CSFA Description: Illinois Works Pre-Apprenticeship Program | G2: ="NOFO # "&'Section A'!F2 -> NOFO #
A3: ="CSFA #: "&'Section A'!B3 -> CSFA #: 420-30-2614 | D3: ="UEI # "&'Section A'!D2 -> UEI # | G3: ="Fiscal Year(s): "&'Section A'!F3 -> Fiscal Year(s): 2027
A5: (2 CFR 200.415)
A6: “By signing this report, I certify to the best of my knowledge and belief that the report is true, complete, and accurate and that any false, fictitious, or fraudulent information or the omission of any material fact, could result in the immediate termination of my grant award(s).
A11: Institution/Organization | E11: Institution/Organization
A14: Signature | E14: Signature
A17: Name of Official | E17: Name of Official
A20: Title | E20: Title
A21: Chief Financial Officer (or equivalent) | E21: Executive Director (or equivalent)
A23: Date of Execution | E23: Date of Execution
A27: Note: The State awarding agency may change required signers based on the grantee’s organizational structure. The required signers must have the authority to enter into contractual agreements on behalf of the organization.
B29: Unilateral Modification/Waiver, no grantee signature required.

Sheet Personnel
A1: Section C - Budget Worksheet & Narrative | G1: =+'Section A'!B2 -> GRANTEE | J1: ENTER NEW BUDGET AMOUNT IN THIS SHEET, NOT THE MODIFICATION AMOUNT
A2: 1). Personnel (Salaries & Wages) (2 CFR 200.430)--List each position by title and name of employee, if available. Show the annual salary rate and the percentage of time to be devoted to the project and length of time working on the project . Compensation paid for employees engaged in grant activities must be consistent with that paid for similar work within the applicant organization. Include a description of the responsibilities and duties of each position in relationship to fulfilling the project goals and objectives in the narrative space provided below. Also, provide a justification and description of each position (including vacant positions). Relate each position specifically to program objectives. Personnel cannot exceed 100% of their time on all active projects.
A5: Name | B5: Position(s) | C5: Salary or Wage | D5: Basis (Yr./Mo./Hr.) | E5: % of Time | F5: Length of time | G5: Personnel Cost | H5: Filter | J5: Length of time=# of units of Basis
A6: PY2026 Joe Smith Program Administrator $60,000.00 Yr 10% 1 $6,000.00 Jane Doe Outreach & Recruitment Coordinator $4,000.00 Mo 45% 12 $21,600.00 Mike Johnson Wraparound Services Coordinator $4,500.00 Mo 30% 12 $16,200.00 Sarah Houston Student Support Services Coordinator $4,000.00 Mo 35% 12 $16,800.00 Frank Thompson Transition Services Coordinator $4,000.00 Mo 100% 12 $48,000.00 Joe White Data Entry Coordinator $4,000.00 Mo 100% 12 $48,000.00 Amy Jefferson Instructor $4,500.00 Mo 20% 12 $10,800.00 | G6: =ROUND(C6*E6*F6,2) -> 0 | H6: state
G7: =ROUND(C7*E7*F7,2) -> 0 | H7: state
A8: PY2027 | G8: =ROUND(C8*E8*F8,2) -> 0 | H8: state
A9: Joe Smith | B9: Program Administrator | C9: 5000 | D9: Mo | E9: 0.1 | F9: 12 | G9: =ROUND(C9*E9*F9,2) -> 6000 | H9: state
A10: Jane Doe | B10: Outreach & Recruitment Coordinator | C10: 4000 | D10: Mo | E10: 0.45 | F10: 12 | G10: =ROUND(C10*E10*F10,2) -> 21600 | H10: state
A11: Mike Johnson | B11: Wraparound Services Coordinator | C11: 4500 | D11: Mo | E11: 0.3 | F11: 12 | G11: =ROUND(C11*E11*F11,2) -> 16200 | H11: state
A12: Sarah Houston | B12: Student Support Services Coordinator | C12: 4000 | D12: Mo | E12: 0.35 | F12: 12 | G12: =ROUND(C12*E12*F12,2) -> 16800 | H12: state
A13: Frank Thompson | B13: Transition Services Coordinator | C13: 4000 | D13: Mo | E13: 1 | F13: 12 | G13: =ROUND(C13*E13*F13,2) -> 48000 | H13: state
A14: Joe White | B14: Data Entry Coordinator | C14: 4000 | D14: Mo | E14: 1 | F14: 12 | G14: =ROUND(C14*E14*F14,2) -> 48000 | H14: state
A15: Amy Jefferson | B15: Instructor | C15: 4500 | D15: Mo | E15: 0.2 | F15: 12 | G15: =ROUND(C15*E15*F15,2) -> 10800 | H15: state
G16: =ROUND(C16*E16*F16,2) -> 0 | H16: state
G17: =ROUND(C17*E17*F17,2) -> 0 | H17: state
G18: =ROUND(C18*E18*F18,2) -> 0 | H18: state
G19: =ROUND(C19*E19*F19,2) -> 0 | H19: state
G20: =ROUND(C20*E20*F20,2) -> 0 | H20: state
G21: =ROUND(C21*E21*F21,2) -> 0 | H21: state
G22: =ROUND(C22*E22*F22,2) -> 0 | H22: state
G23: =ROUND(C23*E23*F23,2) -> 0 | H23: state
G24: =ROUND(C24*E24*F24,2) -> 0 | H24: state
G25: =ROUND(C25*E25*F25,2) -> 0 | H25: state
G26: =ROUND(C26*E26*F26,2) -> 0 | H26: state
G27: =ROUND(C27*E27*F27,2) -> 0 | H27: state
... G135: =ROUND(C135*E135*F135,2) -> 0 | H135: state
F136: State Total | G136: =ROUND(SUBTOTAL(109,G6:G135),2) -> 167400 | H136: state | J136: If you need to additional rows, there are rows you can unhide
H137: non-state
G138: =ROUND(C138*E138*F138,2) -> 0 | H138: non-state
G139: =ROUND(C139*E139*F139,2) -> 0 | H139: non-state
G140: =ROUND(C140*E140*F140,2) -> 0 | H140: non-state
G141: =ROUND(C141*E141*F141,2) -> 0 | H141: non-state
G142: =ROUND(C142*E142*F142,2) -> 0 | H142: non-state
G143: =ROUND(C143*E143*F143,2) -> 0 | H143: non-state
G144: =ROUND(C144*E144*F144,2) -> 0 | H144: non-state
G145: =ROUND(C145*E145*F145,2) -> 0 | H145: non-state
G146: =ROUND(C146*E146*F146,2) -> 0 | H146: non-state
G147: =ROUND(C147*E147*F147,2) -> 0 | H147: non-state
G148: =ROUND(C148*E148*F148,2) -> 0 | H148: non-state
G149: =ROUND(C149*E149*F149,2) -> 0 | H149: non-state
...

Sheet Fringe Benefits
A1: Section C - Budget Worksheet & Narrative | E1: =+'Section A'!B2 -> GRANTEE | H1: ENTER NEW BUDGET AMOUNT IN THIS SHEET, NOT THE MODIFICATION AMOUNT
A2: 2). Fringe Benefits (2 CFR 200.431)--Fringe benefits should be based on actual known costs or an established formula. Fringe benefits are for the personnel listed in category (1) direct salaries and wages, and only for the percentage of time devoted to the project. Provide the fringe benefit rate used and a clear description of how the computation of fringe benefits was done. Provide both the annual (for multiyear awards) and total. If a fringe benefit rate is not used, show how the fringe benefits were computed for each position. The budget justification should be reflected in the budget description. Elements that comprise fringe benefits should be indicated.
A4: Name | B4: Position(s) | C4: Base | D4: Rate | E4: Fringe Benefit Cost | F4: Filter
A5: PY2026 Joe Smith Program Administrator $6,000.00 17.15% $1,029.00 Jane Doe Outreach & Recruitment Coordinator $21,600.00 17.15% $3,704.40 Mike Johnson Wraparound Services Coordinator $16,200.00 17.15% $2,778.30 Sarah Houston Student Support Servcies Coordinator $16,800.00 17.15% $2,881.20 Frank Thompson Transition Services Coordinator $48,000.00 17.15% $8,232.00 Joe White Data Entry Coordinator $48,000.00 17.15% $8,232.00 Amy Jefferson Instructor $10,800.00 17.15% $1,852.20 | E5: =ROUND(C5*D5,2) -> 0 | F5: state
E6: =ROUND(C6*D6,2) -> 0 | F6: state
A7: PY2027 | E7: =ROUND(C7*D7,2) -> 0 | F7: state
A8: Joe Smith | B8: Program Administrator | C8: 6000 | D8: 0.1715 | E8: =ROUND(C8*D8,2) -> 1029 | F8: state
A9: Jane Doe | B9: Outreach & Recruitment Coordinator | C9: 21600 | D9: 0.1715 | E9: =ROUND(C9*D9,2) -> 3704.4 | F9: state
A10: Mike Johnson | B10: Wraparound Services Coordinator | C10: 16200 | D10: 0.1715 | E10: =ROUND(C10*D10,2) -> 2778.3 | F10: state
A11: Sarah Houston | B11: Student Support Servcies Coordinator | C11: 16800 | D11: 0.1715 | E11: =ROUND(C11*D11,2) -> 2881.2 | F11: state
A12: Frank Thompson | B12: Transition Services Coordinator | C12: 48000 | D12: 0.1715 | E12: =ROUND(C12*D12,2) -> 8232 | F12: state
A13: Joe White | B13: Data Entry Coordinator | C13: 48000 | D13: 0.1715 | E13: =ROUND(C13*D13,2) -> 8232 | F13: state
A14: Amy Jefferson | B14: Instructor | C14: 10800 | D14: 0.1715 | E14: =ROUND(C14*D14,2) -> 1852.2 | F14: state
E15: =ROUND(C15*D15,2) -> 0 | F15: state
E16: =ROUND(C16*D16,2) -> 0 | F16: state
E17: =ROUND(C17*D17,2) -> 0 | F17: state
E18: =ROUND(C18*D18,2) -> 0 | F18: state
E19: =ROUND(C19*D19,2) -> 0 | F19: state
E20: =ROUND(C20*D20,2) -> 0 | F20: state
E21: =ROUND(C21*D21,2) -> 0 | F21: state
E22: =ROUND(C22*D22,2) -> 0 | F22: state
E23: =ROUND(C23*D23,2) -> 0 | F23: state
E24: =ROUND(C24*D24,2) -> 0 | F24: state
E25: =ROUND(C25*D25,2) -> 0 | F25: state
E26: =ROUND(C26*D26,2) -> 0 | F26: state
... E134: =ROUND(C134*D134,2) -> 0 | F134: state
D135: State Total | E135: =ROUND(SUBTOTAL(109,E5:E134),2) -> 28709.1 | F135: state | H135: If you need additional rows, there are rows you can unhide
F136: non-state
E137: =ROUND(C137*D137,2) -> 0 | F137: non-state
E138: =ROUND(C138*D138,2) -> 0 | F138: non-state
E139: =ROUND(C139*D139,2) -> 0 | F139: non-state
E140: =ROUND(C140*D140,2) -> 0 | F140: non-state
E141: =ROUND(C141*D141,2) -> 0 | F141: non-state
E142: =ROUND(C142*D142,2) -> 0 | F142: non-state
E143: =ROUND(C143*D143,2) -> 0 | F143: non-state
E144: =ROUND(C144*D144,2) -> 0 | F144: non-state
E145: =ROUND(C145*D145,2) -> 0 | F145: non-state
E146: =ROUND(C146*D146,2) -> 0 | F146: non-state
E147: =ROUND(C147*D147,2) -> 0 | F147: non-state
E148: =ROUND(C148*D148,2) -> 0 | F148: non-state
...

Sheet Travel
A1: Section C - Budget Worksheet & Narrative | G1: =+'Section A'!B2 -> GRANTEE | J1: ENTER NEW BUDGET AMOUNT IN THIS SHEET, NOT THE MODIFICATION AMOUNT
A2: 3). Travel (2 CFR 200.474)-- Travel should include: origin and destination, estimated costs and type of transportation, number of travelers, related lodging and per diem costs, brief description of the travel involved, its purpose, and explanation of how the proposed travel is necessary for successful completion of the project. In training projects, travel and meals for trainees should be listed separately. Show the number of trainees and unit cost involved. Identify the location of travel, if known; or if unknown, indicate "location to be determined." Indicate source of Travel Policies applied, Applicant or State of Illinois Travel Regulations. NOTE: Dollars requested in the travel category should be for staff travel only. Travel for consultants should be shown in the consultant category along with the consultant’s fee. Travel for training participants, advisory committees, review panels and etc., should be itemized the same way as indicated above and placed in the “Miscellaneous” category.
A4: Purpose of Travel/Items | B4: Location | C4: Cost Rate | D4: Basis | E4: Quantity | F4: # of Trips | G4: Travel Cost | H4: Filter
A5: PY2026 Grant Operations Travel Various $39.20 per trip 1 20 $784.00 ILW Training and Conferences Various $500.00 per trip 3 4 $6,000.00 | G5: =ROUND(+C5*E5*F5,2) -> 0 | H5: state
G6: =ROUND(+C6*E6*F6,2) -> 0 | H6: state
A7: PY2027 | G7: =ROUND(+C7*E7*F7,2) -> 0 | H7: state
A8: Grant Operations Travel | B8: Various | C8: 39.2 | D8: per trip | E8: 1 | F8: 20 | G8: =ROUND(+C8*E8*F8,2) -> 784 | H8: state
A9: ILW Training and Conferences | B9: Various | C9: 500 | D9: per trip | E9: 3 | F9: 4 | G9: =ROUND(+C9*E9*F9,2) -> 6000 | H9: state
G10: =ROUND(+C10*E10*F10,2) -> 0 | H10: state
G11: =ROUND(+C11*E11*F11,2) -> 0 | H11: state
G12: =ROUND(+C12*E12*F12,2) -> 0 | H12: state
G13: =ROUND(+C13*E13*F13,2) -> 0 | H13: state
G14: =ROUND(+C14*E14*F14,2) -> 0 | H14: state
G15: =ROUND(+C15*E15*F15,2) -> 0 | H15: state
G16: =ROUND(+C16*E16*F16,2) -> 0 | H16: state
G17: =ROUND(+C17*E17*F17,2) -> 0 | H17: state
G18: =ROUND(+C18*E18*F18,2) -> 0 | H18: state
G19: =ROUND(+C19*E19*F19,2) -> 0 | H19: state
G20: =ROUND(+C20*E20*F20,2) -> 0 | H20: state
G21: =ROUND(+C21*E21*F21,2) -> 0 | H21: state
... G134: =ROUND(+C134*E134*F134,2) -> 0 | H134: state
F135: State Total | G135: =ROUND(SUBTOTAL(109,G5:G134),2) -> 6784 | H135: state | J135: If you need additional rows, there are rows you can unhide
H136: non-state
G137: =ROUND(+C137*E137*F137,2) -> 0 | H137: non-state
G138: =ROUND(+C138*E138*F138,2) -> 0 | H138: non-state
G139: =ROUND(+C139*E139*F139,2) -> 0 | H139: non-state
G140: =ROUND(+C140*E140*F140,2) -> 0 | H140: non-state
G141: =ROUND(+C141*E141*F141,2) -> 0 | H141: non-state
G142: =ROUND(+C142*E142*F142,2) -> 0 | H142: non-state
G143: =ROUND(+C143*E143*F143,2) -> 0 | H143: non-state
G144: =ROUND(+C144*E144*F144,2) -> 0 | H144: non-state
G145: =ROUND(+C145*E145*F145,2) -> 0 | H145: non-state
G146: =ROUND(+C146*E146*F146,2) -> 0 | H146: non-state
G147: =ROUND(+C147*E147*F147,2) -> 0 | H147: non-state
G148: =ROUND(+C148*E148*F148,2) -> 0 | H148: non-state
... G266: =ROUND(+C266*E266*F266,2) -> 0 | H266: non-state
F267: NON-State Total | G267: =ROUND(SUBTOTAL(109,G136:G266),2) -> 0 | H267: non-state | J267: If you need additional rows, there are rows you can unhide
H268: keep
F269: Total Travel | G269: =+G267+G135 -> 6784 | H269: keep | J269: This rows adds State & Non-State Totals
H270: keep
...

Sheet Equipment
A1: Section C - Budget Worksheet & Narrative | D1: =+'Section A'!B2 -> GRANTEE | G1: ENTER NEW BUDGET AMOUNT IN THIS SHEET, NOT THE MODIFICATION AMOUNT
A2: 4). Equipment (2 CFR 200.439)-- Provide justification for the use of each item and relate them to specific program objectives. Provide both the annual (for multiyear awards) and total for equipment. Equipment is defined as an article of tangible personal property that has a useful life of more than one year and a per-unit acquisition cost which equals or exceeds the lesser of the capitalization level established by the non-Federal entity for financial statement purposes, or $10,000. An applicant organization may classify equipment at a lower dollar value but cannot classify it higher than $10,000. (Note: Organization's own capitalization policy for classification of equipment can be used). Applicants should analyze the cost benefits of purchasing versus leasing equipment, especially high cost items and those subject to rapid technical advances. Rented or leased equipment costs should be listed in the "Contractual" category. Explain how the equipment is necessary for the success of the project. Attach a narrative describing the procurement method to be used.
A4: Item | B4: Quantity | C4: Cost | D4: Equipment Cost | E4: Filter
D5: =ROUND(+B5*C5,2) -> 0 | E5: state
D6: =ROUND(+B6*C6,2) -> 0 | E6: state
A7: PY2027 | D7: =ROUND(+B7*C7,2) -> 0 | E7: state
D8: =ROUND(+B8*C8,2) -> 0 | E8: state
D9: =ROUND(+B9*C9,2) -> 0 | E9: state
D10: =ROUND(+B10*C10,2) -> 0 | E10: state
D11: =ROUND(+B11*C11,2) -> 0 | E11: state
D12: =ROUND(+B12*C12,2) -> 0 | E12: state
D13: =ROUND(+B13*C13,2) -> 0 | E13: state
D14: =ROUND(+B14*C14,2) -> 0 | E14: state
D15: =ROUND(+B15*C15,2) -> 0 | E15: state
D16: =ROUND(+B16*C16,2) -> 0 | E16: state
D17: =ROUND(+B17*C17,2) -> 0 | E17: state
D18: =ROUND(+B18*C18,2) -> 0 | E18: state
D19: =ROUND(+B19*C19,2) -> 0 | E19: state
... D134: =ROUND(+B134*C134,2) -> 0 | E134: state
C135: State Total | D135: =ROUND(SUBTOTAL(109,D5:D134),2) -> 0 | E135: state | G135: If you need additional rows, there are rows you can unhide
E136: non-state
D137: =ROUND(+B137*C137,2) -> 0 | E137: non-state
D138: =ROUND(+B138*C138,2) -> 0 | E138: non-state
D139: =ROUND(+B139*C139,2) -> 0 | E139: non-state
D140: =ROUND(+B140*C140,2) -> 0 | E140: non-state
D141: =ROUND(+B141*C141,2) -> 0 | E141: non-state
D142: =ROUND(+B142*C142,2) -> 0 | E142: non-state
D143: =ROUND(+B143*C143,2) -> 0 | E143: non-state
D144: =ROUND(+B144*C144,2) -> 0 | E144: non-state
D145: =ROUND(+B145*C145,2) -> 0 | E145: non-state
D146: =ROUND(+B146*C146,2) -> 0 | E146: non-state
D147: =ROUND(+B147*C147,2) -> 0 | E147: non-state
D148: =ROUND(+B148*C148,2) -> 0 | E148: non-state
... D266: =ROUND(+B266*C266,2) -> 0 | E266: non-state
C267: NON-State Total | D267: =ROUND(SUBTOTAL(109,D136:D266),2) -> 0 | E267: non-state | G267: If you need additional rows, there are rows you can unhide
E268: keep
B269: Total Equipment | D269: =+D267+D135 -> 0 | E269: keep | G269: This rows adds State & Non-State Totals
E270: keep
A271: Equipment Narrative (State): | E271: state | G271: Give a brief description of items that you are claiming
A272: Grantee ackmowledges that equipment that is not expended or consumed during the course of the project will remain with the program. | E272: state | G272: To add information on a new line, hold the Alt key and hit Enter. To change the row height, right click on the row number off to the left of the spreadsheet, then click on Row Height
...

Sheet Supplies
A1: Section C - Budget Worksheet & Narrative | D1: =+'Section A'!B2 -> GRANTEE | E1: Filter | G1: ENTER NEW BUDGET AMOUNT IN THIS SHEET, NOT THE MODIFICATION AMOUNT
A2: 5). Supplies (2 CFR 200.94)--List items by type (office supplies, postage, training materials, copying paper, and other expendable items such as books, hand held tape recorders) and show the basis for computation. Generally, supplies include any materials that are expendable or consumed during the course of the project. | E2: keep
A3: Item | B3: Quantity/ Duration | C3: Cost | D3: Supplies Cost | E3: keep
A4: PY2026 Misc training/office supplies 12 $50.00 $600.00 Construction Lab Equipment 2 $3,000.00 $6,000.00 Tools 1 $8,000.00 $8,000.00 PPE 50 $100.00 $5,000.00 NCCER Core Workbooks 50 $75.00 $3,750.00 Applied Construction Math workbooks 50 $50.00 $2,500.00 Student Assessment Materials 50 $27.50 $1,375.00 | D4: =ROUND(B4*C4,2) -> 0 | E4: keep
D5: =ROUND(B5*C5,2) -> 0 | E5: state
A6: PY2027 | D6: =ROUND(B6*C6,2) -> 0 | E6: state
A7: Misc training/office supplies | B7: 12 | C7: 50 | D7: =ROUND(B7*C7,2) -> 600 | E7: state
A8: Construction Lab Equipment | B8: 2 | C8: 3000 | D8: =ROUND(B8*C8,2) -> 6000 | E8: state
A9: Tools | B9: 1 | C9: 8000 | D9: =ROUND(B9*C9,2) -> 8000 | E9: state
A10: PPE | B10: 50 | C10: 100 | D10: =ROUND(B10*C10,2) -> 5000 | E10: state
A11: NCCER Core Workbooks | B11: 50 | C11: 75 | D11: =ROUND(B11*C11,2) -> 3750 | E11: state
A12: Applied Construction Math workbooks | B12: 50 | C12: 50 | D12: =ROUND(B12*C12,2) -> 2500 | E12: state
A13: Student Assessment Materials | B13: 50 | C13: 27.5 | D13: =ROUND(B13*C13,2) -> 1375 | E13: state
D14: =ROUND(B14*C14,2) -> 0 | E14: state
D15: =ROUND(B15*C15,2) -> 0 | E15: state
D16: =ROUND(B16*C16,2) -> 0 | E16: state
D17: =ROUND(B17*C17,2) -> 0 | E17: state
D18: =ROUND(B18*C18,2) -> 0 | E18: state
D19: =ROUND(B19*C19,2) -> 0 | E19: state
D20: =ROUND(B20*C20,2) -> 0 | E20: state
D21: =ROUND(B21*C21,2) -> 0 | E21: state
D22: =ROUND(B22*C22,2) -> 0 | E22: state
D23: =ROUND(B23*C23,2) -> 0 | E23: state
D24: =ROUND(B24*C24,2) -> 0 | E24: state
D25: =ROUND(B25*C25,2) -> 0 | E25: state
... D133: =ROUND(B133*C133,2) -> 0 | E133: state
C134: State Total | D134: =ROUND(SUBTOTAL(109,D4:D133),2) -> 27225 | E134: state | G134: If you need additional rows, there are rows you can unhide
E135: non-state
D136: =ROUND(B136*C136,2) -> 0 | E136: non-state
D137: =ROUND(B137*C137,2) -> 0 | E137: non-state
D138: =ROUND(B138*C138,2) -> 0 | E138: non-state
D139: =ROUND(B139*C139,2) -> 0 | E139: non-state
D140: =ROUND(B140*C140,2) -> 0 | E140: non-state
D141: =ROUND(B141*C141,2) -> 0 | E141: non-state
D142: =ROUND(B142*C142,2) -> 0 | E142: non-state
D143: =ROUND(B143*C143,2) -> 0 | E143: non-state
D144: =ROUND(B144*C144,2) -> 0 | E144: non-state
D145: =ROUND(B145*C145,2) -> 0 | E145: non-state
D146: =ROUND(B146*C146,2) -> 0 | E146: non-state
D147: =ROUND(B147*C147,2) -> 0 | E147: non-state
...

Sheet Contractual Services
A1: Section C - Budget Worksheet & Narrative | C1: =+'Section A'!B2 -> GRANTEE | D1: Filter | F1: ENTER NEW BUDGET AMOUNT IN THIS SHEET, NOT THE MODIFICATION AMOUNT
A2: 6). Contractual Services (2 CFR 200.318) & Subawards (200.92) -- Provide a description of the product or service to be procured by contract and an estimate of the cost. Applicants are encouraged to promote free and open competition in awarding contracts. A separate justification must be provided for sole contracts in excess of $150,000 (See 2 CFR 200.88). NOTE : this budget category may include subawards. Provide separate budgets for each subaward or contract, regardless of the dollar value and indicate the basis for the cost estimates in the narrative. Describe products or services to be obtained and indicate the applicability or necessity of each to the project. | D2: keep
A3: Please also note the differences between subaward, contract, and contractor (vendor): | D3: keep
A4: 1) Subaward (200.92) means an award provided by a pass-through entity to a subrecipient for the subrecipient to carry out part of a Federal/State award, including a portion of the scope of work or objectives. It does not include payments to a contractor or payments to an individual that is a beneficiary of a Federal/State program. 2) Contract (200.22) means a legal instrument by which a non-Federal entity purchases property or services needed to carry out the project or program under a Federal award. The term as used in this part does not include a legal instrument, even if the non-Federal entity considers it a contract, when the substance of the transaction meets the definition of a Federal award or subaward. 3) "Vendor" or "Contractor" is generally a dealer, distributor or other seller that provides supplies, expendable materials, or data processing services in support of the project activities. | D4: keep
D5: keep
A6: Item | C6: Contractual Services Cost | D6: state
A7: PY2026 First Aid/CPR instruction $3,500.00 OSHA 10 Hour Construction instruction $8,000.00 Construction Math instruction $8,000.00 Accounting services $12,000.00 | D7: state
D8: state
A9: PY2027 | D9: state
A10: First Aid/CPR instruction | C10: 4000 | D10: state
A11: OSHA 10 Hour Construction instruction | C11: 9500 | D11: state
A12: Construction Math instruction | C12: 8500 | D12: state
A13: Accounting services | C13: 12500 | D13: state
D14: state
D15: state
D16: state
D17: state
D18: state
D19: state
D20: state
D21: state
D22: state
D23: state
D24: state
D25: state
... D136: state
B137: State Total | C137: =ROUND(SUBTOTAL(109,C7:C136),2) -> 34500 | D137: state | F137: If you need additional rows, there are rows you can unhide
D138: non-state
D139: non-state
D140: non-state
D141: non-state
D142: non-state
D143: non-state
D144: non-state
D145: non-state
D146: non-state
D147: non-state
D148: non-state
D149: non-state
... D268: non-state
...

Sheet Consultant
A1: Section C - Budget Worksheet & Narrative | G1: =+'Section A'!B2 -> GRANTEE | H1: Filter | J1: ENTER NEW BUDGET AMOUNT IN THIS SHEET, NOT THE MODIFICATION AMOUNT
A2: 7). Consultant Services and Expenses (2 CFR 200.459)-- Consultant Services (Fees): For each consultant enter the name, if known, service to be provided, hourly or daily fee (8-hour day), and estimated time on the project. Consultant Expenses: List all expenses to be paid from the grant to the individual consultant in addition to their fees (i.e., travel, meals, lodging, etc.) Consultant-- Indicate whether applicant's formal, written Procurement Policy or the Federal Acquisitions Policy is used. | H2: keep
A3: Consultant Services (Fees) | B3: Services Provided | D3: Fee | E3: Basis | F3: Quantity | G3: Consultant Services (Fee) Cost | H3: keep
G4: =ROUND(+D4*F4,2) -> 0 | H4: state
G5: =ROUND(+D5*F5,2) -> 0 | H5: state
A6: PY2027 | G6: =ROUND(+D6*F6,2) -> 0 | H6: state
G7: =ROUND(+D7*F7,2) -> 0 | H7: state
G8: =ROUND(+D8*F8,2) -> 0 | H8: state
G9: =ROUND(+D9*F9,2) -> 0 | H9: state
G10: =ROUND(+D10*F10,2) -> 0 | H10: state
G11: =ROUND(+D11*F11,2) -> 0 | H11: state
G12: =ROUND(+D12*F12,2) -> 0 | H12: state
G13: =ROUND(+D13*F13,2) -> 0 | H13: state
G14: =ROUND(+D14*F14,2) -> 0 | H14: state
G15: =ROUND(+D15*F15,2) -> 0 | H15: state
G16: =ROUND(+D16*F16,2) -> 0 | H16: state
G17: =ROUND(+D17*F17,2) -> 0 | H17: state
G18: =ROUND(+D18*F18,2) -> 0 | H18: state
... G133: =ROUND(+D133*F133,2) -> 0 | H133: state
F134: State Total | G134: =ROUND(SUBTOTAL(109,G4:G133),2) -> 0 | H134: state | J134: If you need additional rows, there are rows you can unhide
H135: non-state
G136: =ROUND(+D136*F136,2) -> 0 | H136: non-state
G137: =ROUND(+D137*F137,2) -> 0 | H137: non-state
G138: =ROUND(+D138*F138,2) -> 0 | H138: non-state
G139: =ROUND(+D139*F139,2) -> 0 | H139: non-state
G140: =ROUND(+D140*F140,2) -> 0 | H140: non-state
G141: =ROUND(+D141*F141,2) -> 0 | H141: non-state
G142: =ROUND(+D142*F142,2) -> 0 | H142: non-state
G143: =ROUND(+D143*F143,2) -> 0 | H143: non-state
G144: =ROUND(+D144*F144,2) -> 0 | H144: non-state
G145: =ROUND(+D145*F145,2) -> 0 | H145: non-state
G146: =ROUND(+D146*F146,2) -> 0 | H146: non-state
G147: =ROUND(+D147*F147,2) -> 0 | H147: non-state
... G265: =ROUND(+D265*F265,2) -> 0 | H265: non-state
F266: NON-State Total | G266: =ROUND(SUBTOTAL(109,G135:G265),2) -> 0 | H266: non-state | J266: If you need additional rows, there are rows you can unhide
H267: keep
F268: Total Consultant Services (Fees) | G268: =+G266+G134 -> 0 | H268: keep
H269: keep
A270: Consultant Services Narrative (State): | H270: state | J270: Give a brief description of items that you are claiming
A271: Grantee will submit signed contracts for each vendor. | H271: state | J271: To add information on a new line, hold the Alt key and hit Enter.
...

Sheet Construction
A1: Section C - Budget Worksheet & Narrative | C1: =+'Section A'!B2 -> GRANTEE | D1: Filter | F1: ENTER NEW BUDGET AMOUNT IN THIS SHEET, NOT THE MODIFICATION AMOUNT
A2: 8). Construction-- Provide a description of the construction project and an estimate of the costs. As a rule, construction costs are not allowable unless with prior written approval. In some cases, minor repairs or renovations may be allowable. Consult with the program office before budgeting funds in this category. Estimated construction costs must be supported by documentation including drawings and estimates, formal bids, etc. As with all other costs, follow the specific requirements of the program, the terms and conditions of the award, and applicable regulations. | D2: keep
A3: Purpose | B3: Description of Work | C3: Construction Cost | D3: keep
D4: state | F4: Consult with Program Office before budgeting Construction costs.
D5: state | F5: Consult with Program Office before budgeting Construction costs.
D6: state | F6: Consult with Program Office before budgeting Construction costs.
D7: state | F7: Consult with Program Office before budgeting Construction costs.
D8: state | F8: Consult with Program Office before budgeting Construction costs.
D9: state | F9: Consult with Program Office before budgeting Construction costs.
D10: state | F10: Consult with Program Office before budgeting Construction costs.
D11: state | F11: Consult with Program Office before budgeting Construction costs.
D12: state | F12: Consult with Program Office before budgeting Construction costs.
D13: state | F13: Consult with Program Office before budgeting Construction costs.
D14: state | F14: Consult with Program Office before budgeting Construction costs.
D15: state | F15: Consult with Program Office before budgeting Construction costs.
... D133: state | F133: Consult with Program Office before budgeting Construction costs.
B134: State Total | C134: =ROUND(SUBTOTAL(109,C4:C133),2) -> 0 | D134: state | F134: If you need additional rows, there are rows you can unhide
D135: non-state
D136: non-state
D137: non-state | F137: Consult with Program Office before budgeting Construction costs.
D138: non-state | F138: Consult with Program Office before budgeting Construction costs.
D139: non-state | F139: Consult with Program Office before budgeting Construction costs.
D140: non-state | F140: Consult with Program Office before budgeting Construction costs.
D141: non-state | F141: Consult with Program Office before budgeting Construction costs.
D142: non-state | F142: Consult with Program Office before budgeting Construction costs.
D143: non-state | F143: Consult with Program Office before budgeting Construction costs.
D144: non-state | F144: Consult with Program Office before budgeting Construction costs.
D145: non-state | F145: Consult with Program Office before budgeting Construction costs.
D146: non-state | F146: Consult with Program Office before budgeting Construction costs.
D147: non-state | F147: Consult with Program Office before budgeting Construction costs.
D148: non-state | F148: Consult with Program Office before budgeting Construction costs.
... D264: non-state | F264: Consult with Program Office before budgeting Construction costs.
D265: non-state
B266: NON-State Total | C266: =ROUND(SUBTOTAL(109,C135:C265),2) -> 0 | D266: non-state | F266: If you need additional rows, there are rows you can unhide
D267: keep
B268: Total Construction | C268: =+C266+C134 -> 0 | D268: keep | F268: This rows adds State & Non-State Totals
D269: keep
A270: Construction Narrative (State): | D270: state | F270: Give a brief description of items that you are claiming
D271: state | F271: To add information on a new line, hold the Alt key and hit Enter. To change the row height, right click on the row number off to the left of the spreadsheet, then click on Row Height
D272: non-state
...

Sheet Occupancy
A1: Section C - Budget Worksheet & Narrative | F1: =+'Section A'!B2 -> GRANTEE | G1: Filter | I1: ENTER NEW BUDGET AMOUNT IN THIS SHEET, NOT THE MODIFICATION AMOUNT
A2: 9). Occupancy -Rent and Utilities (2 CFR 200.465)-- List items and descriptions by major type and the basis of the computation. Explain how rental and utility expenses are allocated for distribution as an expense to the program/service. For example, provide the square footage and the cost per square foot rent and utility, and provide a monthly rental and utility cost and how many months to rent. NOTE: This budgetary line item is to be used for direct program rent and utilities, all other indirect or administrative occupancy costs should be listed in the indirect expense section of the Budget worksheet and narrative. Maintenance and repair costs may be included here if directly allocated to program. | G2: keep
G3: keep
A4: Description | B4: Quantity | C4: Basis | D4: Cost | E4: Length of time | F4: Occupancy Cost | G4: keep | I4: Length of time=# of units of Basis
A5: PY2026 Instruction facility 3000 square foot $2.00 12 $72,000.00 | F5: =ROUND(+B5*D5*E5,2) -> 0 | G5: state
F6: =ROUND(+B6*D6*E6,2) -> 0 | G6: state
A7: PY2027 | F7: =ROUND(+B7*D7*E7,2) -> 0 | G7: state
A8: Instruction facility | B8: 3000 | C8: square foot | D8: 2 | E8: 12 | F8: =ROUND(+B8*D8*E8,2) -> 72000 | G8: state
F9: =ROUND(+B9*D9*E9,2) -> 0 | G9: state
F10: =ROUND(+B10*D10*E10,2) -> 0 | G10: state
F11: =ROUND(+B11*D11*E11,2) -> 0 | G11: state
F12: =ROUND(+B12*D12*E12,2) -> 0 | G12: state
F13: =ROUND(+B13*D13*E13,2) -> 0 | G13: state
F14: =ROUND(+B14*D14*E14,2) -> 0 | G14: state
F15: =ROUND(+B15*D15*E15,2) -> 0 | G15: state
F16: =ROUND(+B16*D16*E16,2) -> 0 | G16: state
F17: =ROUND(+B17*D17*E17,2) -> 0 | G17: state
F18: =ROUND(+B18*D18*E18,2) -> 0 | G18: state
F19: =ROUND(+B19*D19*E19,2) -> 0 | G19: state
F20: =ROUND(+B20*D20*E20,2) -> 0 | G20: state
... F134: =ROUND(+B134*D134*E134,2) -> 0 | G134: state
E135: State Total | F135: =ROUND(SUBTOTAL(109,F5:F134),2) -> 72000 | G135: state | I135: If you need additional rows, there are rows you can unhide
G136: non-state
F137: =ROUND(+B137*D137*E137,2) -> 0 | G137: non-state
F138: =ROUND(+B138*D138*E138,2) -> 0 | G138: non-state
F139: =ROUND(+B139*D139*E139,2) -> 0 | G139: non-state
F140: =ROUND(+B140*D140*E140,2) -> 0 | G140: non-state
F141: =ROUND(+B141*D141*E141,2) -> 0 | G141: non-state
F142: =ROUND(+B142*D142*E142,2) -> 0 | G142: non-state
F143: =ROUND(+B143*D143*E143,2) -> 0 | G143: non-state
F144: =ROUND(+B144*D144*E144,2) -> 0 | G144: non-state
F145: =ROUND(+B145*D145*E145,2) -> 0 | G145: non-state
F146: =ROUND(+B146*D146*E146,2) -> 0 | G146: non-state
F147: =ROUND(+B147*D147*E147,2) -> 0 | G147: non-state
F148: =ROUND(+B148*D148*E148,2) -> 0 | G148: non-state
... F266: =ROUND(+B266*D266*E266,2) -> 0 | G266: non-state
E267: NON-State Total | F267: =ROUND(SUBTOTAL(109,F136:F266),2) -> 0 | G267: non-state | I267: If you need additional rows, there are rows you can unhide
G268: keep
E269: Total Occupancy | F269: =+F267+F135 -> 72000 | G269: keep | I269: This rows adds State & Non-State Totals
G270: keep
...

Sheet R & D
A1: Section C - Budget Worksheet & Narrative | C1: =+'Section A'!B2 -> GRANTEE | F1: ENTER NEW BUDGET AMOUNT IN THIS SHEET, NOT THE MODIFICATION AMOUNT
A2: 10). Research & Development (R&D) (2 CFR 200.87)-- Definition: All research activities, both basic and applied, and all development activities that are performed by non-Federal entities directed toward the production of useful materials, devices, systems, or methods, including design and development of prototypes and processes. Provide a description of the research and development project and an estimate of the costs. NOTE: Consult with the program office before budgeting funds in this category.
A3: Purpose | B3: Description of Work | C3: Research & Development Cost | D3: Filter
D4: state
D5: state
D6: state
D7: state
D8: state
D9: state
D10: state
D11: state
D12: state
D13: state
D14: state
D15: state
... D133: state
B134: State Total | C134: =ROUND(SUBTOTAL(109,C4:C133),2) -> 0 | D134: state | F134: If you need additional rows, there are rows you can unhide
D135: non-state
D136: non-state
D137: non-state
D138: non-state
D139: non-state
D140: non-state
D141: non-state
D142: non-state
D143: non-state
D144: non-state
D145: non-state
D146: non-state
... D265: non-state
B266: NON-State Total | C266: =ROUND(SUBTOTAL(109,C135:C265),2) -> 0 | D266: non-state | F266: If you need additional rows, there are rows you can unhide
D267: keep
B268: Total R & D | C268: =+C266+C134 -> 0 | D268: keep | F268: This rows adds State & Non-State Totals
D269: keep
A270: R & D Narrative (State): | D270: state | F270: Give a brief description of items that you are claiming
D271: state | F271: To add information on a new line, hold the Alt key and hit Enter. To change the row height, right click on the row number off to the left of the spreadsheet, then click on Row Height
D272: non-state
A273: R & D Narrative (Non-State) i.e. "Match" or "Other Funding" | D273: non-state | F273: Give a brief description of items that you are claiming
D274: non-state | F274: To add information on a new line, hold the Alt key and hit Enter. To change the row height, right click on the row number off to the left of the spreadsheet, then click on Row Height

Sheet Telecommunications
A1: Section C - Budget Worksheet & Narrative | F1: =+'Section A'!B2 -> GRANTEE | G1: Filter | I1: ENTER NEW BUDGET AMOUNT IN THIS SHEET, NOT THE MODIFICATION AMOUNT
A2: 11). Telecommunications -- List items and descriptions by major type and the basis of the computation. Explain how telecommunication expenses are allocated for distribution as an expense to the program/service. NOTE: This budgetary line item is to be used for direct program telecommunications, all other indirect or administrative telecommunication costs should be listed in the indirect expense section of the Budget worksheet and narrative. | G2: keep
G3: keep
A4: Description | B4: Quantity | C4: Basis | D4: Cost | E4: Length of time | F4: Telecommunications Cost | G4: keep
A5: PY2026 Staff Cell Phones 7 Each $14.50 12 $1,218.00 | F5: =ROUND(+B5*D5*E5,2) -> 0 | G5: state
F6: =ROUND(+B6*D6*E6,2) -> 0 | G6: state
A7: PY2027 | F7: =ROUND(+B7*D7*E7,2) -> 0 | G7: state
A8: Staff Cell Phones | B8: 7 | C8: Each | D8: 14.5 | E8: 12 | F8: =ROUND(+B8*D8*E8,2) -> 1218 | G8: state
F9: =ROUND(+B9*D9*E9,2) -> 0 | G9: state
F10: =ROUND(+B10*D10*E10,2) -> 0 | G10: state
F11: =ROUND(+B11*D11*E11,2) -> 0 | G11: state
F12: =ROUND(+B12*D12*E12,2) -> 0 | G12: state
F13: =ROUND(+B13*D13*E13,2) -> 0 | G13: state
F14: =ROUND(+B14*D14*E14,2) -> 0 | G14: state
F15: =ROUND(+B15*D15*E15,2) -> 0 | G15: state
F16: =ROUND(+B16*D16*E16,2) -> 0 | G16: state
F17: =ROUND(+B17*D17*E17,2) -> 0 | G17: state
F18: =ROUND(+B18*D18*E18,2) -> 0 | G18: state
F19: =ROUND(+B19*D19*E19,2) -> 0 | G19: state
F20: =ROUND(+B20*D20*E20,2) -> 0 | G20: state
... F134: =ROUND(+B134*D134*E134,2) -> 0 | G134: state
E135: State Total | F135: =ROUND(SUBTOTAL(109,F5:F134),2) -> 1218 | G135: state | I135: If you need additional rows, there are rows you can unhide
G136: non-state
F137: =ROUND(+B137*D137*E137,2) -> 0 | G137: non-state
F138: =ROUND(+B138*D138*E138,2) -> 0 | G138: non-state
F139: =ROUND(+B139*D139*E139,2) -> 0 | G139: non-state
F140: =ROUND(+B140*D140*E140,2) -> 0 | G140: non-state
F141: =ROUND(+B141*D141*E141,2) -> 0 | G141: non-state
F142: =ROUND(+B142*D142*E142,2) -> 0 | G142: non-state
F143: =ROUND(+B143*D143*E143,2) -> 0 | G143: non-state
F144: =ROUND(+B144*D144*E144,2) -> 0 | G144: non-state
F145: =ROUND(+B145*D145*E145,2) -> 0 | G145: non-state
F146: =ROUND(+B146*D146*E146,2) -> 0 | G146: non-state
F147: =ROUND(+B147*D147*E147,2) -> 0 | G147: non-state
F148: =ROUND(+B148*D148*E148,2) -> 0 | G148: non-state
... F266: =ROUND(+B266*D266*E266,2) -> 0 | G266: non-state
E267: NON-State Total | F267: =ROUND(SUBTOTAL(109,F136:F266),2) -> 0 | G267: non-state | I267: If you need additional rows, there are rows you can unhide
G268: keep
C269: Total Telecommunications | F269: =+F267+F135 -> 1218 | G269: keep | I269: This rows adds State & Non-State Totals
G270: keep
...

Sheet Training & Education
A1: Section C - Budget Worksheet & Narrative | F1: =+'Section A'!B2 -> GRANTEE | G1: Filter | I1: ENTER NEW BUDGET AMOUNT IN THIS SHEET, NOT THE MODIFICATION AMOUNT
A2: 12). Training and Education (2 CFR 200.472) -- Describe the training and education cost associated with employee development. Include rental space for training (if required), training materials, speaker fees, substitute teacher fees, and any other applicable expenses related to the training. When training materials (pamphlets, notebooks, videos, and other various handouts) are ordered for specific training activities, these items should be itemized below. | G2: keep
G3: keep
A4: Description | B4: Quantity | C4: Basis | D4: Cost | E4: Length of time | F4: Training & Education Cost | G4: keep | I4: Length of time=# of units of Basis
A5: PY2026 Staff Training and Professional Development 3 $1,500.00 1 $4,500.00 | F5: =ROUND(+B5*D5*E5,2) -> 0 | G5: state
F6: =ROUND(+B6*D6*E6,2) -> 0 | G6: state
A7: PY2027 | F7: =ROUND(+B7*D7*E7,2) -> 0 | G7: state
A8: Staff Training and Professional Development | B8: 3 | D8: 2000 | E8: 1 | F8: =ROUND(+B8*D8*E8,2) -> 6000 | G8: state
F9: =ROUND(+B9*D9*E9,2) -> 0 | G9: state
F10: =ROUND(+B10*D10*E10,2) -> 0 | G10: state
F11: =ROUND(+B11*D11*E11,2) -> 0 | G11: state
F12: =ROUND(+B12*D12*E12,2) -> 0 | G12: state
F13: =ROUND(+B13*D13*E13,2) -> 0 | G13: state
F14: =ROUND(+B14*D14*E14,2) -> 0 | G14: state
F15: =ROUND(+B15*D15*E15,2) -> 0 | G15: state
F16: =ROUND(+B16*D16*E16,2) -> 0 | G16: state
F17: =ROUND(+B17*D17*E17,2) -> 0 | G17: state
F18: =ROUND(+B18*D18*E18,2) -> 0 | G18: state
F19: =ROUND(+B19*D19*E19,2) -> 0 | G19: state
F20: =ROUND(+B20*D20*E20,2) -> 0 | G20: state
... F134: =ROUND(+B134*D134*E134,2) -> 0 | G134: state
E135: State Total | F135: =ROUND(SUBTOTAL(109,F5:F134),2) -> 6000 | G135: state | I135: If you need additional rows, there are rows you can unhide
G136: non-state
F137: =ROUND(+B137*D137*E137,2) -> 0 | G137: non-state
F138: =ROUND(+B138*D138*E138,2) -> 0 | G138: non-state
F139: =ROUND(+B139*D139*E139,2) -> 0 | G139: non-state
F140: =ROUND(+B140*D140*E140,2) -> 0 | G140: non-state
F141: =ROUND(+B141*D141*E141,2) -> 0 | G141: non-state
F142: =ROUND(+B142*D142*E142,2) -> 0 | G142: non-state
F143: =ROUND(+B143*D143*E143,2) -> 0 | G143: non-state
F144: =ROUND(+B144*D144*E144,2) -> 0 | G144: non-state
F145: =ROUND(+B145*D145*E145,2) -> 0 | G145: non-state
F146: =ROUND(+B146*D146*E146,2) -> 0 | G146: non-state
F147: =ROUND(+B147*D147*E147,2) -> 0 | G147: non-state
F148: =ROUND(+B148*D148*E148,2) -> 0 | G148: non-state
... F266: =ROUND(+B266*D266*E266,2) -> 0 | G266: non-state
E267: NON-State Total | F267: =ROUND(SUBTOTAL(109,F136:F266),2) -> 0 | G267: non-state | I267: If you need additional rows, there are rows you can unhide
G268: keep
C269: Total Training & Education | F269: =+F267+F135 -> 6000 | G269: keep | I269: This rows adds State & Non-State Totals
G270: keep
...

Sheet Direct Administrative
A1: Section C - Budget Worksheet & Narrative | G1: =+'Section A'!$B$2 -> GRANTEE | H1: Filter | J1: ENTER NEW BUDGET AMOUNT IN THIS SHEET, NOT THE MODIFICATION AMOUNT
A2: 13). Direct Administrative Costs - (2 CFR 200.413 (c) The salaries of administrative and clerical staff should normally be treated as indirect (F&A) costs. Direct charging of these costs may be appropriate only if all of the following conditions are met: (1) Administrative or clerical services are integral to a project or activity; (2) Individuals involved can be specifically identified with the project or activity; (3) Such costs are explicitly included in the budget or have the prior written approval of the State awarding agency; and (4) The costs are not also recovered as indirect costs. | H2: keep
H3: keep
A4: Name | B4: Position | C4: Salary or Wage | D4: Basis (Yr./Mo./Hr.) | E4: % of Time | F4: Length of time | G4: Direct Administrative Cost | H4: keep | J4: Length of time=# of units of Basis
G5: =ROUND(+C5*E5*F5,2) -> 0 | H5: state
G6: =ROUND(+C6*E6*F6,2) -> 0 | H6: state
G7: =ROUND(+C7*E7*F7,2) -> 0 | H7: state
G8: =ROUND(+C8*E8*F8,2) -> 0 | H8: state
G9: =ROUND(+C9*E9*F9,2) -> 0 | H9: state
G10: =ROUND(+C10*E10*F10,2) -> 0 | H10: state
G11: =ROUND(+C11*E11*F11,2) -> 0 | H11: state
G12: =ROUND(+C12*E12*F12,2) -> 0 | H12: state
G13: =ROUND(+C13*E13*F13,2) -> 0 | H13: state
G14: =ROUND(+C14*E14*F14,2) -> 0 | H14: state
G15: =ROUND(+C15*E15*F15,2) -> 0 | H15: state
G16: =ROUND(+C16*E16*F16,2) -> 0 | H16: state
... G134: =ROUND(+C134*E134*F134,2) -> 0 | H134: state
F135: State Total | G135: =ROUND(SUBTOTAL(109,G5:G134),2) -> 0 | H135: state | J135: If you need additional rows, there are rows you can unhide
H136: non-state
G137: =ROUND(+C137*E137*F137,2) -> 0 | H137: non-state
G138: =ROUND(+C138*E138*F138,2) -> 0 | H138: non-state
G139: =ROUND(+C139*E139*F139,2) -> 0 | H139: non-state
G140: =ROUND(+C140*E140*F140,2) -> 0 | H140: non-state
G141: =ROUND(+C141*E141*F141,2) -> 0 | H141: non-state
G142: =ROUND(+C142*E142*F142,2) -> 0 | H142: non-state
G143: =ROUND(+C143*E143*F143,2) -> 0 | H143: non-state
G144: =ROUND(+C144*E144*F144,2) -> 0 | H144: non-state
G145: =ROUND(+C145*E145*F145,2) -> 0 | H145: non-state
G146: =ROUND(+C146*E146*F146,2) -> 0 | H146: non-state
G147: =ROUND(+C147*E147*F147,2) -> 0 | H147: non-state
G148: =ROUND(+C148*E148*F148,2) -> 0 | H148: non-state
... G266: =ROUND(+C266*E266*F266,2) -> 0 | H266: non-state
F267: NON-State Total | G267: =ROUND(SUBTOTAL(109,G136:G266),2) -> 0 | H267: non-state | J267: If you need additional rows, there are rows you can unhide
H268: keep
D269: Total Direct Administrative Costs | G269: =+G267+G135 -> 0 | H269: keep | J269: This rows adds State & Non-State Totals
H270: keep
A271: Direct Administrative Narrative (State): | H271: state | J271: Give a brief description of items that you are claiming
H272: state | J272: To add information on a new line, hold the Alt key and hit Enter. To change the row height, right click on the row number off to the left of the spreadsheet, then click on Row Height
H273: non-state
A274: Direct Administrative Narrative (Non-State) i.e. "Match" or "Other Funding" | H274: non-state | J274: Give a brief description of items that you are claiming
...

Sheet Miscellaneous (other) Costs
A1: Section C - Budget Worksheet & Narrative | F1: =+'Section A'!$B$2 -> GRANTEE | G1: Filter | I1: ENTER NEW BUDGET AMOUNT IN THIS SHEET, NOT THE MODIFICATION AMOUNT
A2: 14). Other or Miscellaneous Costs --This category contains items not included in the previous categories. List items by type of material or nature of expense, break down costs by quantity and cost per unit if applicable, state the necessity of other costs for successful completion of the project and exclude unallowable costs (e.g.. Printing, Memberships & subscriptions, recruiting costs, etc.) | G2: keep
G3: keep
A4: Description | B4: Quantity | C4: Basis | D4: Cost | E4: Length of time | F4: Other or Miscellaneous Cost | G4: keep | I4: Length of time=# of units of Basis
A5: PY2026 Barrier Reduction Funds 50 each $600.00 1 $30,000.00 Performance Based Stipends 50 hrs $13.00 200 $130,000.00 Program Marketing 12 each $700.00 1 $8,400.00 Open house events 4 each $50.00 1 $200.00 Career Fairs 1 each $150.00 1 $150.00 Shuttle Bus 4 each $200.00 1 $800.00 | F5: =ROUND(+B5*D5*E5,2) -> 0 | G5: state
F6: =ROUND(+B6*D6*E6,2) -> 0 | G6: state
A7: PY2027 | F7: =ROUND(+B7*D7*E7,2) -> 0 | G7: state
A8: Barrier Reduction Funds | B8: 50 | C8: each | D8: 600 | E8: 1 | F8: =ROUND(+B8*D8*E8,2) -> 30000 | G8: state
A9: Performance Based Stipends | B9: 50 | C9: hrs | D9: 13 | E9: 200 | F9: =ROUND(+B9*D9*E9,2) -> 130000 | G9: state
A10: Program Marketing | B10: 12 | C10: each | D10: 700 | E10: 1 | F10: =ROUND(+B10*D10*E10,2) -> 8400 | G10: state
A11: Open house events | B11: 4 | C11: each | D11: 50 | E11: 1 | F11: =ROUND(+B11*D11*E11,2) -> 200 | G11: state
A12: Career Fairs | B12: 1 | C12: each | D12: 150 | E12: 1 | F12: =ROUND(+B12*D12*E12,2) -> 150 | G12: state
A13: Shuttle Bus | B13: 4 | C13: each | D13: 200 | E13: 1 | F13: =ROUND(+B13*D13*E13,2) -> 800 | G13: state
F14: =ROUND(+B14*D14*E14,2) -> 0 | G14: state
F15: =ROUND(+B15*D15*E15,2) -> 0 | G15: state
F16: =ROUND(+B16*D16*E16,2) -> 0 | G16: state
F17: =ROUND(+B17*D17*E17,2) -> 0 | G17: state
